BEGIN:VCALENDAR
VERSION:2.0
PRODID:-//Colchester Ridge Estate Winery - ECPv6.15.17.1//NONSGML v1.0//EN
CALSCALE:GREGORIAN
METHOD:PUBLISH
X-WR-CALNAME:Colchester Ridge Estate Winery
X-ORIGINAL-URL:https://colchesterridge.com
X-WR-CALDESC:Events for Colchester Ridge Estate Winery
REFRESH-INTERVAL;VALUE=DURATION:PT1H
X-Robots-Tag:noindex
X-PUBLISHED-TTL:PT1H
BEGIN:VTIMEZONE
TZID:America/Toronto
BEGIN:DAYLIGHT
TZOFFSETFROM:-0500
TZOFFSETTO:-0400
TZNAME:EDT
DTSTART:20230312T070000
END:DAYLIGHT
BEGIN:STANDARD
TZOFFSETFROM:-0400
TZOFFSETTO:-0500
TZNAME:EST
DTSTART:20231105T060000
END:STANDARD
BEGIN:DAYLIGHT
TZOFFSETFROM:-0500
TZOFFSETTO:-0400
TZNAME:EDT
DTSTART:20240310T070000
END:DAYLIGHT
BEGIN:STANDARD
TZOFFSETFROM:-0400
TZOFFSETTO:-0500
TZNAME:EST
DTSTART:20241103T060000
END:STANDARD
BEGIN:DAYLIGHT
TZOFFSETFROM:-0500
TZOFFSETTO:-0400
TZNAME:EDT
DTSTART:20250309T070000
END:DAYLIGHT
BEGIN:STANDARD
TZOFFSETFROM:-0400
TZOFFSETTO:-0500
TZNAME:EST
DTSTART:20251102T060000
END:STANDARD
END:VTIMEZONE
BEGIN:VEVENT
DTSTART;TZID=America/Toronto:20241130T140000
DTEND;TZID=America/Toronto:20241130T160000
DTSTAMP:20260425T160127
CREATED:20241022T190446Z
LAST-MODIFIED:20241022T191538Z
UID:7212-1732975200-1732982400@colchesterridge.com
SUMMARY:Sugar Cookie Decorating Workshop
DESCRIPTION:Join us on Saturday\, November 30\, 2024\, at Colchester Ridge Estate Winery for a Sugar Cookie Decorating Workshop! \n\n\n\nGet into the holiday spirit with our fun and interactive Sugar Cookie Decorating Workshop. Learn how to decorate beautiful\, festive cookies while enjoying a glass of wine in a cozy\, relaxed atmosphere. All supplies are included\, so you can focus on unleashing your creativity! \n\n\n\nIt’s the perfect holiday activity for cookie enthusiasts and anyone looking to spend a festive afternoon at the winery. \n\n\n\nLimited availability — only 12 tickets are available\, so reserve your spot today! \n\n\n\nEvent Highlights: \n\n\n\n\nLearn to decorate festive holiday sugar cookies\n\n\n\nEnjoy a complimentary glass of CREW wine\n\n\n\nAll supplies are provided\n\n\n\nIdeal for cookie enthusiasts and holiday fun-seekers near Windsor-Essex\n\n\n\nHosted at the beautiful Colchester Ridge Estate Winery\n\n\n\n\nReservations are required. \n\n\n\nFor more information\, contact Tanya at 519-738-9800 or email thedrick@colchesterridge.com.
URL:https://colchesterridge.com/event/sugar-cookie-decorating-workshop/
LOCATION:Colchester Ridge Estate Winery\, 108 County Road 50 East\, Harrow\, Ontario\, N0R 1G0\, Canada
CATEGORIES:Dinners,Events
ATTACH;FMTTYPE=image/jpeg:https://colchesterridge.com/wp-content/uploads/2024/10/CREW-Cookies.jpg
END:VEVENT
END:VCALENDAR