BEGIN:VCALENDAR
VERSION:2.0
PRODID:-//Colchester Ridge Estate Winery - ECPv6.15.17.1//NONSGML v1.0//EN
CALSCALE:GREGORIAN
METHOD:PUBLISH
X-WR-CALNAME:Colchester Ridge Estate Winery
X-ORIGINAL-URL:https://colchesterridge.com
X-WR-CALDESC:Events for Colchester Ridge Estate Winery
REFRESH-INTERVAL;VALUE=DURATION:PT1H
X-Robots-Tag:noindex
X-PUBLISHED-TTL:PT1H
BEGIN:VTIMEZONE
TZID:America/Toronto
BEGIN:DAYLIGHT
TZOFFSETFROM:-0500
TZOFFSETTO:-0400
TZNAME:EDT
DTSTART:20230312T070000
END:DAYLIGHT
BEGIN:STANDARD
TZOFFSETFROM:-0400
TZOFFSETTO:-0500
TZNAME:EST
DTSTART:20231105T060000
END:STANDARD
BEGIN:DAYLIGHT
TZOFFSETFROM:-0500
TZOFFSETTO:-0400
TZNAME:EDT
DTSTART:20240310T070000
END:DAYLIGHT
BEGIN:STANDARD
TZOFFSETFROM:-0400
TZOFFSETTO:-0500
TZNAME:EST
DTSTART:20241103T060000
END:STANDARD
BEGIN:DAYLIGHT
TZOFFSETFROM:-0500
TZOFFSETTO:-0400
TZNAME:EDT
DTSTART:20250309T070000
END:DAYLIGHT
BEGIN:STANDARD
TZOFFSETFROM:-0400
TZOFFSETTO:-0500
TZNAME:EST
DTSTART:20251102T060000
END:STANDARD
END:VTIMEZONE
BEGIN:VEVENT
DTSTART;TZID=America/Toronto:20241116T180000
DTEND;TZID=America/Toronto:20241116T220000
DTSTAMP:20260425T160116
CREATED:20241001T164312Z
LAST-MODIFIED:20241003T194812Z
UID:7001-1731780000-1731794400@colchesterridge.com
SUMMARY:Wine Pairing Dinner
DESCRIPTION:Join us on Saturday\, November 16th\, for an unforgettable culinary experience at Colchester Ridge Estate Winery (CREW). Indulge in a meticulously crafted menu paired with our finest wines\, set against the picturesque backdrop of our vineyard. \n\n\n\nExperience a diverse selection of gourmet\, Spanish-inspired dishes perfectly paired with our award-winning wines. This exclusive event is an ideal opportunity for food and wine enthusiasts in the Windsor-Essex area to enjoy an elegant evening in our beautiful winery setting. \n\n\n\nMenu: \n\n\n\n\nWarm Citrus Fennel Olives\n\n\n\nPan Con Tomate (Tomato Bread)\n\n\n\nDeviled Eggs\n\n\n\nManchego & Iberico Ham\n\n\n\nBeef Empanadas\n\n\n\nMushrooms with Parsley Lemon Garlic Sauce\n\n\n\nCaramelized Onion & Goat Cheese Flatbread\n\n\n\nGambas Al Ajillo (Garlic Shrimp)\n\n\n\nChorizo with Cider\n\n\n\nPatatas Bravas (Potatoes with Spicy Tomato Sauce and Aioli)\n\n\n\nGrilled Octopus\n\n\n\nPincho Moruno De Pollo (Moorish Style Chicken Skewers)\n\n\n\nChocolate Con Churros\n\n\n\n\nReserve Your Seat Today! \n\n\n\nLimited seating is available for this exclusive wine pairing dinner. Book your tickets now to secure your place at this not-to-be-missed event.
URL:https://colchesterridge.com/event/wine-pairing-nov162024/
LOCATION:Colchester Ridge Estate Winery\, 108 County Road 50 East\, Harrow\, Ontario\, N0R 1G0\, Canada
CATEGORIES:Dinners,Events
ATTACH;FMTTYPE=image/png:https://colchesterridge.com/wp-content/uploads/2024/10/Crew-Cocktail-2-1.png
END:VEVENT
END:VCALENDAR