BEGIN:VCALENDAR
VERSION:2.0
PRODID:-//Colchester Ridge Estate Winery - ECPv6.15.17.1//NONSGML v1.0//EN
CALSCALE:GREGORIAN
METHOD:PUBLISH
X-WR-CALNAME:Colchester Ridge Estate Winery
X-ORIGINAL-URL:https://colchesterridge.com
X-WR-CALDESC:Events for Colchester Ridge Estate Winery
REFRESH-INTERVAL;VALUE=DURATION:PT1H
X-Robots-Tag:noindex
X-PUBLISHED-TTL:PT1H
BEGIN:VTIMEZONE
TZID:America/Toronto
BEGIN:DAYLIGHT
TZOFFSETFROM:-0500
TZOFFSETTO:-0400
TZNAME:EDT
DTSTART:20230312T070000
END:DAYLIGHT
BEGIN:STANDARD
TZOFFSETFROM:-0400
TZOFFSETTO:-0500
TZNAME:EST
DTSTART:20231105T060000
END:STANDARD
BEGIN:DAYLIGHT
TZOFFSETFROM:-0500
TZOFFSETTO:-0400
TZNAME:EDT
DTSTART:20240310T070000
END:DAYLIGHT
BEGIN:STANDARD
TZOFFSETFROM:-0400
TZOFFSETTO:-0500
TZNAME:EST
DTSTART:20241103T060000
END:STANDARD
BEGIN:DAYLIGHT
TZOFFSETFROM:-0500
TZOFFSETTO:-0400
TZNAME:EDT
DTSTART:20250309T070000
END:DAYLIGHT
BEGIN:STANDARD
TZOFFSETFROM:-0400
TZOFFSETTO:-0500
TZNAME:EST
DTSTART:20251102T060000
END:STANDARD
END:VTIMEZONE
BEGIN:VEVENT
DTSTART;TZID=America/Toronto:20241214T180000
DTEND;TZID=America/Toronto:20241214T213000
DTSTAMP:20260425T113212
CREATED:20241119T170721Z
LAST-MODIFIED:20241119T174015Z
UID:7358-1734199200-1734211800@colchesterridge.com
SUMMARY:Wine Pairing Dinner (Dec. 14)
DESCRIPTION:Join us on Saturday\, December 14\, 2024\, at Colchester Ridge Estate Winery for a Wine Pairing Dinner! \n\n\n\nIndulge in an elegant culinary experience with our carefully curated Wine Pairing Dinner. Enjoy a three-course menu featuring gourmet dishes paired perfectly with CREW wines\, starting with a 6 PM cocktail reception. This event is ideal for food and wine enthusiasts looking for a sophisticated evening at our picturesque winery. \n\n\n\nLimited availability — reserve your spot today! \n\n\n\nEvent Highlights: \n\n\n\n\nEnjoy a gourmet\, three-course meal\n\n\n\nExpertly paired wine selections for each course\n\n\n\nIdeal for food and wine lovers near Windsor-Essex\n\n\n\nHosted at the beautiful Colchester Ridge Estate Winery\n\n\n\n\nMenu \n\n\n\n\nAmuse Bouche: Shrimp Cocktail\n\n\n\nFirst Course: Gougères\, Parisian Ham\, Boursin\, Fig\n\nWine Pairing: Fumé Blanc\n\n\n\n\n\nSecond Course: Braised Short Rib\, Pomme Purée\, Haricot Vert\n\nWine Pairing: Cabernet Franc\n\n\n\n\n\nThird Course: Sticky Toffee Pudding\n\nWine Pairing: Pinot Gris\n\n\n\n\n\n\nReservations are required.
URL:https://colchesterridge.com/event/wine-pairing-dinner-dec-14/
LOCATION:Colchester Ridge Estate Winery\, 108 County Road 50 East\, Harrow\, Ontario\, N0R 1G0\, Canada
CATEGORIES:Dinners,Events
ATTACH;FMTTYPE=image/jpeg:https://colchesterridge.com/wp-content/uploads/2024/11/Wine-Pairing-December.jpg
END:VEVENT
BEGIN:VEVENT
DTSTART;TZID=America/Toronto:20241228T170000
DTEND;TZID=America/Toronto:20241228T200000
DTSTAMP:20260425T113212
CREATED:20241104T231949Z
LAST-MODIFIED:20241105T170942Z
UID:7296-1735405200-1735416000@colchesterridge.com
SUMMARY:Interactive Oyster & Bubbly Class (Dec. 28)
DESCRIPTION:Join us on December 28 at Colchester Ridge Estate Winery for an Interactive Oyster & Bubbly Class! \n\n\n\nDiscover the art of oyster shucking and indulge in a tasting experience with our Oyster & Bubbly Class. Learn to shuck your own oysters\, taste multiple varieties\, and make both classic and unique sauces to complement them. This interactive class includes a shucker knife and cut-resistant glove for you to keep\, as well as a sparkling cocktail and a tasting of each of our CREW sparkling wines. \n\n\n\nIt’s the perfect event for seafood and sparkling wine enthusiasts in the Windsor-Essex area to enjoy a memorable evening. \n\n\n\nLimited availability — only 20 tickets are available\, so reserve your spot today! \n\n\n\nEvent Highlights: \n\n\n\n\nLearn to shuck your own oysters\n\n\n\nTaste a variety of oysters and craft delicious sauces\n\n\n\nEnjoy a sparkling cocktail and tasting of CREW’s sparkling wines\n\n\n\nTake home a shucker knife and cut-resistant glove\n\n\n\nIdeal for seafood and wine lovers near Windsor-Essex\n\n\n\nHosted at the beautiful Colchester Ridge Estate Winery\n\n\n\n\nReservations are required.
URL:https://colchesterridge.com/event/interactive-oyster-bubbly-class-dec-28/
LOCATION:Colchester Ridge Estate Winery\, 108 County Road 50 East\, Harrow\, Ontario\, N0R 1G0\, Canada
CATEGORIES:Cooking Classes,Events
ATTACH;FMTTYPE=image/jpeg:https://colchesterridge.com/wp-content/uploads/2024/11/Crew-Oysters.jpg
END:VEVENT
END:VCALENDAR