BEGIN:VCALENDAR
VERSION:2.0
PRODID:-//Colchester Ridge Estate Winery - ECPv6.15.17.1//NONSGML v1.0//EN
CALSCALE:GREGORIAN
METHOD:PUBLISH
X-WR-CALNAME:Colchester Ridge Estate Winery
X-ORIGINAL-URL:https://colchesterridge.com
X-WR-CALDESC:Events for Colchester Ridge Estate Winery
REFRESH-INTERVAL;VALUE=DURATION:PT1H
X-Robots-Tag:noindex
X-PUBLISHED-TTL:PT1H
BEGIN:VTIMEZONE
TZID:America/Toronto
BEGIN:DAYLIGHT
TZOFFSETFROM:-0500
TZOFFSETTO:-0400
TZNAME:EDT
DTSTART:20240310T070000
END:DAYLIGHT
BEGIN:STANDARD
TZOFFSETFROM:-0400
TZOFFSETTO:-0500
TZNAME:EST
DTSTART:20241103T060000
END:STANDARD
BEGIN:DAYLIGHT
TZOFFSETFROM:-0500
TZOFFSETTO:-0400
TZNAME:EDT
DTSTART:20250309T070000
END:DAYLIGHT
BEGIN:STANDARD
TZOFFSETFROM:-0400
TZOFFSETTO:-0500
TZNAME:EST
DTSTART:20251102T060000
END:STANDARD
BEGIN:DAYLIGHT
TZOFFSETFROM:-0500
TZOFFSETTO:-0400
TZNAME:EDT
DTSTART:20260308T070000
END:DAYLIGHT
BEGIN:STANDARD
TZOFFSETFROM:-0400
TZOFFSETTO:-0500
TZNAME:EST
DTSTART:20261101T060000
END:STANDARD
END:VTIMEZONE
BEGIN:VEVENT
DTSTART;TZID=America/Toronto:20250920T170000
DTEND;TZID=America/Toronto:20250920T193000
DTSTAMP:20260419T112357
CREATED:20250822T165435Z
LAST-MODIFIED:20250826T175550Z
UID:9583-1758387600-1758396600@colchesterridge.com
SUMMARY:Caribbean Flavours Cooking Class at Colchester Ridge Estate Winery – Sept. 20\, 2025
DESCRIPTION:Spice things up with bold flavours and vibrant dishes in our Caribbean Flavours Cooking Class hosted by Chef Vanessa. This educational demonstration class features island-inspired recipes that bring the heat and soul of Caribbean cuisine to your home kitchen. \n\n\n\nLimited to just 10 guests – reserve your ticket today! \n\n\n\nEvent Highlights:\n\n\n\n\nDemonstrated by Chef Vanessa\n\n\n\nLearn to make bold and authentic Caribbean dishes\n\n\n\nIdeal for food lovers in the Windsor-Essex area\n\n\n\nHosted at the scenic Colchester Ridge Estate Winery\n\n\n\n\nMenu:\n\n\n\n\nPepper Shrimp\n\n\n\nJerk Chicken Breast\n\n\n\nCaribbean Rice with Coconut Milk\n\n\n\nPineapple Rum Cake with Coconut Pecan Glaze\n\n\n\n\nEvent Details:\n\n\n\n\nDate: Saturday\, September 20\, 2025\n\n\n\nTime: 5:00 PM start\n\n\n\nPrice: $80 per guest (plus HST)\n\n\n\nCapacity: Limited to 10 guests\n\n\n\n\nReserve your spot today by calling 519-738-9800\, or book your ticket below. \n\n\n\n\n\n\nBuy Tickets
URL:https://colchesterridge.com/event/caribbean-flavours-cooking-class-at-colchester-ridge-estate-winery-sept-20-2025/
LOCATION:Colchester Ridge Estate Winery\, 108 County Road 50 East\, Harrow\, Ontario\, N0R 1G0\, Canada
CATEGORIES:Cooking Classes,Events
ATTACH;FMTTYPE=image/jpeg:https://colchesterridge.com/wp-content/uploads/2025/08/Crew-Cooking-2025.jpg
END:VEVENT
BEGIN:VEVENT
DTSTART;TZID=America/Toronto:20250921T160000
DTEND;TZID=America/Toronto:20250921T193000
DTSTAMP:20260419T112357
CREATED:20250822T172201Z
LAST-MODIFIED:20250826T174935Z
UID:9587-1758470400-1758483000@colchesterridge.com
SUMMARY:Caribbean Flavours Cooking Class at Colchester Ridge Estate Winery – Sept. 21\, 2025
DESCRIPTION:Explore the vibrant tastes of the Caribbean at our Caribbean Flavours Cooking Class\, hosted by Chef Vanessa. Learn to prepare flavourful dishes using fresh ingredients and authentic techniques in this fun and educational demonstration class. \n\n\n\nLimited to just 10 guests – reserve your ticket today! \n\n\n\nEvent Highlights:\n\n\n\n\nGuided cooking class with professional chef\n\n\n\nCaribbean-style recipes full of bold\, tropical flavours\n\n\n\nEnjoy the relaxing setting of our winery kitchen space\n\n\n\nPerfect for home cooks and adventurous foodies\n\n\n\n\nMenu:\n\n\n\n\nPepper Shrimp\n\n\n\nJerk Chicken Breast\n\n\n\nCaribbean Rice with Coconut Milk\n\n\n\nPineapple Rum Cake with Coconut Pecan Glaze\n\n\n\n\nEvent Details:\n\n\n\n\nDate: Sunday\, September 21\, 2025\n\n\n\nTime: 4:00 PM start\n\n\n\nPrice: $80 per guest (plus HST)\n\n\n\nCapacity: Limited to 10 guests\n\n\n\n\nReserve your spot today by calling 519-738-9800\, or book your ticket below. \n\n\n\n\nBuy Tickets Now
URL:https://colchesterridge.com/event/caribbean-flavours-cooking-class-at-colchester-ridge-estate-winery-sept-21-2025/
LOCATION:Colchester Ridge Estate Winery\, 108 County Road 50 East\, Harrow\, Ontario\, N0R 1G0\, Canada
CATEGORIES:Cooking Classes,Events
ATTACH;FMTTYPE=image/jpeg:https://colchesterridge.com/wp-content/uploads/2025/08/Crew-Cooking-2025-1.jpg
END:VEVENT
END:VCALENDAR