BEGIN:VCALENDAR
VERSION:2.0
PRODID:-//Colchester Ridge Estate Winery - ECPv6.15.17.1//NONSGML v1.0//EN
CALSCALE:GREGORIAN
METHOD:PUBLISH
X-WR-CALNAME:Colchester Ridge Estate Winery
X-ORIGINAL-URL:https://colchesterridge.com
X-WR-CALDESC:Events for Colchester Ridge Estate Winery
REFRESH-INTERVAL;VALUE=DURATION:PT1H
X-Robots-Tag:noindex
X-PUBLISHED-TTL:PT1H
BEGIN:VTIMEZONE
TZID:America/Toronto
BEGIN:DAYLIGHT
TZOFFSETFROM:-0500
TZOFFSETTO:-0400
TZNAME:EDT
DTSTART:20240310T070000
END:DAYLIGHT
BEGIN:STANDARD
TZOFFSETFROM:-0400
TZOFFSETTO:-0500
TZNAME:EST
DTSTART:20241103T060000
END:STANDARD
BEGIN:DAYLIGHT
TZOFFSETFROM:-0500
TZOFFSETTO:-0400
TZNAME:EDT
DTSTART:20250309T070000
END:DAYLIGHT
BEGIN:STANDARD
TZOFFSETFROM:-0400
TZOFFSETTO:-0500
TZNAME:EST
DTSTART:20251102T060000
END:STANDARD
BEGIN:DAYLIGHT
TZOFFSETFROM:-0500
TZOFFSETTO:-0400
TZNAME:EDT
DTSTART:20260308T070000
END:DAYLIGHT
BEGIN:STANDARD
TZOFFSETFROM:-0400
TZOFFSETTO:-0500
TZNAME:EST
DTSTART:20261101T060000
END:STANDARD
END:VTIMEZONE
BEGIN:VEVENT
DTSTART;TZID=America/Toronto:20250201T160000
DTEND;TZID=America/Toronto:20250201T190000
DTSTAMP:20260425T080658
CREATED:20241212T220105Z
LAST-MODIFIED:20241212T220109Z
UID:8385-1738425600-1738436400@colchesterridge.com
SUMMARY:"Taste of Tuscany" Cooking Class (Feb. 1\, 2025)
DESCRIPTION:Transport yourself to the heart of Italy with our Taste of Tuscany Cooking Class\, where you’ll learn to prepare classic Tuscan dishes in a fun\, interactive setting. Guided by expert instruction\, this hands-on class is perfect for food lovers who want to master flavorful\, seasonal recipes inspired by the rich culinary traditions of Tuscany. \n\n\n\nLimited to just 10 guests per class — reserve your spot today! \n\n\n\nEvent Highlights: \n\n\n\n\nLearn to cook authentic Tuscan recipes\n\n\n\nEnjoy a cozy\, hands-on class experience\n\n\n\nTaste exquisite wine pairings\n\n\n\nIdeal for food enthusiasts in the Windsor-Essex area\n\n\n\nHosted at the beautiful Colchester Ridge Estate Winery\n\n\n\n\nMenu \n\n\n\n\nTuscan Bean Soup\n\n\n\nTuscan Braised Chicken\n\n\n\nParmesan Polenta\n\n\n\nRoasted Broccolini with Garlic and Lemon\n\n\n\nBlood Orange Upside-Down Cake\n\n\n\n\nEvent Details: \n\n\n\n\nDates: February 1\, 2024\n\n\n\nTime: 4 PM to 7 PM\n\n\n\nPrice: $80\n\n\n\nCapacity: Limited to 10 guests per class\n\n\n\n\nReserve Your Spot Today! \n\n\n\nCall 519-738-9800 or buy tickets below!  \n\n\n\nDon’t miss this chance to explore the flavors of Tuscany in an intimate\, hands-on cooking class at Colchester Ridge Estate Winery!
URL:https://colchesterridge.com/event/taste-of-tuscany-cooking-class-feb-1-2025/
LOCATION:Colchester Ridge Estate Winery\, 108 County Road 50 East\, Harrow\, Ontario\, N0R 1G0\, Canada
CATEGORIES:Cooking Classes,Events
ATTACH;FMTTYPE=image/jpeg:https://colchesterridge.com/wp-content/uploads/2024/12/Cooking-Classes-Tuscany-1.jpg
END:VEVENT
BEGIN:VEVENT
DTSTART;TZID=America/Toronto:20250202T160000
DTEND;TZID=America/Toronto:20250202T190000
DTSTAMP:20260425T080658
CREATED:20241210T002602Z
LAST-MODIFIED:20241210T011335Z
UID:8309-1738512000-1738522800@colchesterridge.com
SUMMARY:"Taste of Tuscany" Cooking Class (Feb. 2\, 2025)
DESCRIPTION:Transport yourself to the heart of Italy with our Taste of Tuscany Cooking Class\, where you’ll learn to prepare classic Tuscan dishes in a fun\, interactive setting. Guided by expert instruction\, this hands-on class is perfect for food lovers who want to master flavorful\, seasonal recipes inspired by the rich culinary traditions of Tuscany. \n\n\n\nLimited to just 10 guests per class — reserve your spot today! \n\n\n\nEvent Highlights: \n\n\n\n\nLearn to cook authentic Tuscan recipes\n\n\n\nEnjoy a cozy\, hands-on class experience\n\n\n\nTaste exquisite wine pairings\n\n\n\nIdeal for food enthusiasts in the Windsor-Essex area\n\n\n\nHosted at the beautiful Colchester Ridge Estate Winery\n\n\n\n\nMenu \n\n\n\n\nTuscan Bean Soup\n\n\n\nTuscan Braised Chicken\n\n\n\nParmesan Polenta\n\n\n\nRoasted Broccolini with Garlic and Lemon\n\n\n\nBlood Orange Upside-Down Cake\n\n\n\n\nEvent Details: \n\n\n\n\nDates: February 2\, 2024\n\n\n\nTime: 4 PM to 7 PM\n\n\n\nPrice: $80\n\n\n\nCapacity: Limited to 10 guests per class\n\n\n\n\nReserve Your Spot Today! \n\n\n\nCall 519-738-9800 or buy tickets below!  \n\n\n\nDon’t miss this chance to explore the flavors of Tuscany in an intimate\, hands-on cooking class at Colchester Ridge Estate Winery!
URL:https://colchesterridge.com/event/taste-of-tuscany-cooking-class-feb-2-2025/
LOCATION:Colchester Ridge Estate Winery\, 108 County Road 50 East\, Harrow\, Ontario\, N0R 1G0\, Canada
CATEGORIES:Cooking Classes,Events
ATTACH;FMTTYPE=image/jpeg:https://colchesterridge.com/wp-content/uploads/2024/12/Cooking-Classes-Tuscany-1.jpg
END:VEVENT
BEGIN:VEVENT
DTSTART;TZID=America/Toronto:20250208T160000
DTEND;TZID=America/Toronto:20250208T190000
DTSTAMP:20260425T080658
CREATED:20241210T003616Z
LAST-MODIFIED:20241210T011502Z
UID:8312-1739030400-1739041200@colchesterridge.com
SUMMARY:"Stirring Up Love" Cooking Class (Feb. 8\, 2025)
DESCRIPTION:Celebrate the season of love with our Stirring Up Love Cooking Class\, where you’ll learn to prepare a romantic\, gourmet menu designed to impress. This hands-on cooking experience is perfect for couples\, friends\, or anyone looking to enjoy a memorable evening of great food and wine. \n\n\n\nLimited to just 10 guests per class — reserve your spot today! \n\n\n\nEvent Highlights: \n\n\n\n\nLearn to cook an elegant\, love-inspired menu\n\n\n\nEnjoy a fun\, hands-on cooking class with expert guidance\n\n\n\nTaste exquisite wine pairings to complement your creations\n\n\n\nIdeal for food lovers and romantics in the Windsor-Essex area\n\n\n\nHosted at the beautiful Colchester Ridge Estate Winery\n\n\n\n\nMenu \n\n\n\n\nWinter Greens with Mustard Shallot Vinaigrette\n\n\n\nPan Roasted Steak with Pan Jus\n\n\n\nFrites with Garlic Truffle Aioli\n\n\n\nChocolate Molten Lava Cake\n\n\n\n\nEvent Details: \n\n\n\n\nDate: February 8\, 2025\n\n\n\nTime: 4 PM to 7 PM\n\n\n\nPrice: $80\n\n\n\nCapacity: Limited to 10 guests per class\n\n\n\n\nReserve Your Spot Today! \n\n\n\nDon’t miss this chance to cook in an intimate\, hands-on cooking class at Colchester Ridge Estate Winery!
URL:https://colchesterridge.com/event/stirring-up-love-cooking-class-feb-8-2025/
LOCATION:Colchester Ridge Estate Winery\, 108 County Road 50 East\, Harrow\, Ontario\, N0R 1G0\, Canada
CATEGORIES:Cooking Classes,Events
ATTACH;FMTTYPE=image/jpeg:https://colchesterridge.com/wp-content/uploads/2024/12/Cooking-Classes-Valentines-1.jpg
END:VEVENT
BEGIN:VEVENT
DTSTART;TZID=America/Toronto:20250209T160000
DTEND;TZID=America/Toronto:20250209T190000
DTSTAMP:20260425T080658
CREATED:20241210T004845Z
LAST-MODIFIED:20241212T190412Z
UID:8317-1739116800-1739127600@colchesterridge.com
SUMMARY:“Stirring Up Love” Cooking Class (Feb. 9\, 2025)
DESCRIPTION:Celebrate the season of love with our Stirring Up Love Cooking Class\, where you’ll learn to prepare a romantic\, gourmet menu designed to impress. This hands-on cooking experience is perfect for couples\, friends\, or anyone looking to enjoy a memorable evening of great food and wine. \n\n\n\nLimited to just 10 guests per class — reserve your spot today! \n\n\n\nEvent Highlights: \n\n\n\n\nLearn to cook an elegant\, love-inspired menu\n\n\n\nEnjoy a fun\, hands-on cooking class with expert guidance\n\n\n\nTaste exquisite wine pairings to complement your creations\n\n\n\nIdeal for food lovers and romantics in the Windsor-Essex area\n\n\n\nHosted at the beautiful Colchester Ridge Estate Winery\n\n\n\n\nMenu \n\n\n\n\nWinter Greens with Mustard Shallot Vinaigrette\n\n\n\nPan Roasted Steak with Pan Jus\n\n\n\nFrites with Garlic Truffle Aioli\n\n\n\nChocolate Molten Lava Cake\n\n\n\n\nEvent Details: \n\n\n\n\nDate: February 9\, 2025\n\n\n\nTime: 4 PM to 7 PM\n\n\n\nPrice: $80\n\n\n\nCapacity: Limited to 10 guests per class\n\n\n\n\nReserve Your Spot Today! \n\n\n\nDon’t miss this chance to cook in an intimate\, hands-on cooking class at Colchester Ridge Estate Winery!
URL:https://colchesterridge.com/event/stirring-up-love-cooking-class-feb-9-2025/
LOCATION:Colchester Ridge Estate Winery\, 108 County Road 50 East\, Harrow\, Ontario\, N0R 1G0\, Canada
CATEGORIES:Cooking Classes,Events
ATTACH;FMTTYPE=image/jpeg:https://colchesterridge.com/wp-content/uploads/2024/12/Cooking-Classes-Valentines-1.jpg
END:VEVENT
END:VCALENDAR