BEGIN:VCALENDAR
VERSION:2.0
PRODID:-//Colchester Ridge Estate Winery - ECPv6.15.17.1//NONSGML v1.0//EN
CALSCALE:GREGORIAN
METHOD:PUBLISH
X-WR-CALNAME:Colchester Ridge Estate Winery
X-ORIGINAL-URL:https://colchesterridge.com
X-WR-CALDESC:Events for Colchester Ridge Estate Winery
REFRESH-INTERVAL;VALUE=DURATION:PT1H
X-Robots-Tag:noindex
X-PUBLISHED-TTL:PT1H
BEGIN:VTIMEZONE
TZID:America/Toronto
BEGIN:DAYLIGHT
TZOFFSETFROM:-0500
TZOFFSETTO:-0400
TZNAME:EDT
DTSTART:20230312T070000
END:DAYLIGHT
BEGIN:STANDARD
TZOFFSETFROM:-0400
TZOFFSETTO:-0500
TZNAME:EST
DTSTART:20231105T060000
END:STANDARD
BEGIN:DAYLIGHT
TZOFFSETFROM:-0500
TZOFFSETTO:-0400
TZNAME:EDT
DTSTART:20240310T070000
END:DAYLIGHT
BEGIN:STANDARD
TZOFFSETFROM:-0400
TZOFFSETTO:-0500
TZNAME:EST
DTSTART:20241103T060000
END:STANDARD
BEGIN:DAYLIGHT
TZOFFSETFROM:-0500
TZOFFSETTO:-0400
TZNAME:EDT
DTSTART:20250309T070000
END:DAYLIGHT
BEGIN:STANDARD
TZOFFSETFROM:-0400
TZOFFSETTO:-0500
TZNAME:EST
DTSTART:20251102T060000
END:STANDARD
END:VTIMEZONE
BEGIN:VEVENT
DTSTART;TZID=America/Toronto:20240614T160000
DTEND;TZID=America/Toronto:20240614T190000
DTSTAMP:20260425T141905
CREATED:20240607T002310Z
LAST-MODIFIED:20240607T002310Z
UID:6733-1718380800-1718391600@colchesterridge.com
SUMMARY:Live Performance June 14th – Robbie Litt
DESCRIPTION:🎤🍷 Robbie Litt Live at CREW Winery \nOn Friday June 14th from 4pm until 7pm we welcome Robbie Litt. He is a Canadian-American singer\, songwriter\, and musician who originates from Ontario\, Canada.  He has performed as a professional musician for more than 35 years throughout Canada\, Europe\, and the United States.  His music is inspired by classic rock and country artists such as Lynyrd Skynyrd\, Kris Kristofferson\, and Johnny Cash.  His life experiences and personal trials have helped him create moving songs like This is America and I’ve Been High\, each of which have garnered thousands of hits on Spotify.  Robbie’s passion for music and performing has drawn fans from all walks of life who call themselves “stalkers” and dedicate themselves to following his performances.  Robbie currently resides in north Georgia and performs throughout Georgia\, South Carolina\, Texas\, and Florida. \nReservations are recommended as seating is limited. Please give us a call at 519-738-9800 or email Tanya at thedrick@colchesterridge.com to reserve your spot. \n#RobbieLittLive #CREWWinery #FridayMusic #WindsorArtists #LiveMusic #WineAndTunes #SupportLocalMusic #TGIF
URL:https://colchesterridge.com/event/live-performance-june-14th-robbie-litt/
LOCATION:Colchester Ridge Estate Winery\, 108 County Road 50 East\, Harrow\, Ontario\, N0R 1G0\, Canada
CATEGORIES:Music
ATTACH;FMTTYPE=image/jpeg:https://colchesterridge.com/wp-content/uploads/2024/06/Robbie-Litt-fb-2_jpg.jpg
END:VEVENT
END:VCALENDAR