BEGIN:VCALENDAR
VERSION:2.0
PRODID:-//Colchester Ridge Estate Winery - ECPv6.15.17.1//NONSGML v1.0//EN
CALSCALE:GREGORIAN
METHOD:PUBLISH
X-WR-CALNAME:Colchester Ridge Estate Winery
X-ORIGINAL-URL:https://colchesterridge.com
X-WR-CALDESC:Events for Colchester Ridge Estate Winery
REFRESH-INTERVAL;VALUE=DURATION:PT1H
X-Robots-Tag:noindex
X-PUBLISHED-TTL:PT1H
BEGIN:VTIMEZONE
TZID:America/Toronto
BEGIN:DAYLIGHT
TZOFFSETFROM:-0500
TZOFFSETTO:-0400
TZNAME:EDT
DTSTART:20230312T070000
END:DAYLIGHT
BEGIN:STANDARD
TZOFFSETFROM:-0400
TZOFFSETTO:-0500
TZNAME:EST
DTSTART:20231105T060000
END:STANDARD
BEGIN:DAYLIGHT
TZOFFSETFROM:-0500
TZOFFSETTO:-0400
TZNAME:EDT
DTSTART:20240310T070000
END:DAYLIGHT
BEGIN:STANDARD
TZOFFSETFROM:-0400
TZOFFSETTO:-0500
TZNAME:EST
DTSTART:20241103T060000
END:STANDARD
BEGIN:DAYLIGHT
TZOFFSETFROM:-0500
TZOFFSETTO:-0400
TZNAME:EDT
DTSTART:20250309T070000
END:DAYLIGHT
BEGIN:STANDARD
TZOFFSETFROM:-0400
TZOFFSETTO:-0500
TZNAME:EST
DTSTART:20251102T060000
END:STANDARD
END:VTIMEZONE
BEGIN:VEVENT
DTSTART;TZID=America/Toronto:20240609T140000
DTEND;TZID=America/Toronto:20240609T170000
DTSTAMP:20260425T125635
CREATED:20240604T175556Z
LAST-MODIFIED:20240604T175556Z
UID:6704-1717941600-1717952400@colchesterridge.com
SUMMARY:Live Performance June 9th - Adam Butcher
DESCRIPTION:🎤🍷 Adam Butcher Live at CREW Winery \nJoin us at CREW for Sunday Funday with Adam Butcher on Sunday\, June 9th\, from 2-5 PM. Adam\, a beloved local artist\, is known for his versatile musical talents and soul-stirring vocals\, captivating audiences with his original compositions and favorite covers. \nEnjoy an afternoon of extraordinary music\, perfectly complemented by CREW’s award-winning wines and delectable gourmet dishes. Immerse yourself in Adam’s country and blues-inspired melodies that authentically capture the essence of Windsor’s vibrant music scene. \nReservations are recommended as seating is limited. Please give us a call at 519-738-9800 or email Tanya at thedrick@colchesterridge.com to reserve your spot. \n#AdamButcherLive #CREWWinery #SundayMusic #WindsorArtists #LiveMusic #WineAndTunes #SupportLocalMusic #SundayFunday
URL:https://colchesterridge.com/event/live-performance-june-9th-adam-butcher/
LOCATION:Colchester Ridge Estate Winery\, 108 County Road 50 East\, Harrow\, Ontario\, N0R 1G0\, Canada
CATEGORIES:Music
ATTACH;FMTTYPE=image/jpeg:https://colchesterridge.com/wp-content/uploads/2024/06/Adam-Butcher-fb-2_jpg.jpg
END:VEVENT
END:VCALENDAR