BEGIN:VCALENDAR
VERSION:2.0
PRODID:-//Colchester Ridge Estate Winery - ECPv6.15.17.1//NONSGML v1.0//EN
CALSCALE:GREGORIAN
METHOD:PUBLISH
X-ORIGINAL-URL:https://colchesterridge.com
X-WR-CALDESC:Events for Colchester Ridge Estate Winery
REFRESH-INTERVAL;VALUE=DURATION:PT1H
X-Robots-Tag:noindex
X-PUBLISHED-TTL:PT1H
BEGIN:VTIMEZONE
TZID:America/Toronto
BEGIN:DAYLIGHT
TZOFFSETFROM:-0500
TZOFFSETTO:-0400
TZNAME:EDT
DTSTART:20230312T070000
END:DAYLIGHT
BEGIN:STANDARD
TZOFFSETFROM:-0400
TZOFFSETTO:-0500
TZNAME:EST
DTSTART:20231105T060000
END:STANDARD
BEGIN:DAYLIGHT
TZOFFSETFROM:-0500
TZOFFSETTO:-0400
TZNAME:EDT
DTSTART:20240310T070000
END:DAYLIGHT
BEGIN:STANDARD
TZOFFSETFROM:-0400
TZOFFSETTO:-0500
TZNAME:EST
DTSTART:20241103T060000
END:STANDARD
BEGIN:DAYLIGHT
TZOFFSETFROM:-0500
TZOFFSETTO:-0400
TZNAME:EDT
DTSTART:20250309T070000
END:DAYLIGHT
BEGIN:STANDARD
TZOFFSETFROM:-0400
TZOFFSETTO:-0500
TZNAME:EST
DTSTART:20251102T060000
END:STANDARD
END:VTIMEZONE
BEGIN:VEVENT
DTSTART;TZID=America/Toronto:20240527T130000
DTEND;TZID=America/Toronto:20240527T160000
DTSTAMP:20260425T081149
CREATED:20240515T181923Z
LAST-MODIFIED:20240515T182023Z
UID:6669-1716814800-1716825600@colchesterridge.com
SUMMARY:Live Performance May 27th – Dave Wilson
DESCRIPTION:🎤🍷 Dave Wilson Live at CREW Winery \nJoin us at CREW Winery on Monday\, May 27th\, from 1 to 4 PM for an afternoon with the talented Dave Wilson! 🎸 Enjoy Dave’s soulful sounds and heartfelt lyrics\, whether you’re a fan of classic hits or original compositions. Pair the musical experience with our selection of wines and indulge in the flavors of our gourmet menu. Don’t miss this fine tunes\, fine wine\, and fine dining experience! \nReservations are recommended as seating is limited. Please give us a call at 519-738-9800 or email Tanya at thedrick@colchesterridge.com to reserve your spot. \n#LivePerformance #CREWWinery #CREWLIVE #WineEvents #windsoressex #windsorartists #livemusic #supportlocalmusic #DaveWilson #WineAndMusic #LiveMusicMonday
URL:https://colchesterridge.com/event/live-performance-may-27th-dave-wilson/
LOCATION:Colchester Ridge Estate Winery\, 108 County Road 50 East\, Harrow\, Ontario\, N0R 1G0\, Canada
CATEGORIES:Music
ATTACH;FMTTYPE=image/jpeg:https://colchesterridge.com/wp-content/uploads/2024/05/Dave-Wilson-fb-2_jpg.jpg
END:VEVENT
END:VCALENDAR