BEGIN:VCALENDAR
VERSION:2.0
PRODID:-//Colchester Ridge Estate Winery - ECPv6.15.17.1//NONSGML v1.0//EN
CALSCALE:GREGORIAN
METHOD:PUBLISH
X-WR-CALNAME:Colchester Ridge Estate Winery
X-ORIGINAL-URL:https://colchesterridge.com
X-WR-CALDESC:Events for Colchester Ridge Estate Winery
REFRESH-INTERVAL;VALUE=DURATION:PT1H
X-Robots-Tag:noindex
X-PUBLISHED-TTL:PT1H
BEGIN:VTIMEZONE
TZID:America/Toronto
BEGIN:DAYLIGHT
TZOFFSETFROM:-0500
TZOFFSETTO:-0400
TZNAME:EDT
DTSTART:20230312T070000
END:DAYLIGHT
BEGIN:STANDARD
TZOFFSETFROM:-0400
TZOFFSETTO:-0500
TZNAME:EST
DTSTART:20231105T060000
END:STANDARD
BEGIN:DAYLIGHT
TZOFFSETFROM:-0500
TZOFFSETTO:-0400
TZNAME:EDT
DTSTART:20240310T070000
END:DAYLIGHT
BEGIN:STANDARD
TZOFFSETFROM:-0400
TZOFFSETTO:-0500
TZNAME:EST
DTSTART:20241103T060000
END:STANDARD
BEGIN:DAYLIGHT
TZOFFSETFROM:-0500
TZOFFSETTO:-0400
TZNAME:EDT
DTSTART:20250309T070000
END:DAYLIGHT
BEGIN:STANDARD
TZOFFSETFROM:-0400
TZOFFSETTO:-0500
TZNAME:EST
DTSTART:20251102T060000
END:STANDARD
END:VTIMEZONE
BEGIN:VEVENT
DTSTART;TZID=America/Toronto:20240512T100000
DTEND;TZID=America/Toronto:20240512T140000
DTSTAMP:20260425T094437
CREATED:20240410T210412Z
LAST-MODIFIED:20240508T012622Z
UID:2678-1715508000-1715522400@colchesterridge.com
SUMMARY:SOLD OUT - Mother's Day Buffet
DESCRIPTION:Celebrate Mother’s Day in style with an unforgettable brunch experience at our picturesque winery. Nestled amidst our vast vineyard and breathtaking scenery\, our Mother’s Day brunch promises to be a delightful fusion of gourmet cuisine\, fine wines\, and cherished moments shared with loved ones. \nOur buffet menu will be as follows: \n~scrambled eggs                                     ~toast \n~bacon                                                     ~muffins \n~sausage                                                  ~croissants \n~french toast                                           ~garden salad \n~homefries                                              ~fried chicken \n~eggs benny casserole                           ~mac & cheese \n~fresh fruit bowl                                    ~seasonal vegetable medley \n  \nPricing \nAdults $34.99 \nYouth 6 to 12 $18.99 \nKids 5 and under free \n  \nTwo times To Choose From \n10am seating \n12pm seating \n  \nReservations only made via email. Please email Tanya at thedrick@colchesterridge.com \nPlease include your name\, number of people\, seating time and phone number.
URL:https://colchesterridge.com/event/mothers-day-buffet/
LOCATION:Colchester Ridge Estate Winery\, 108 County Road 50 East\, Harrow\, Ontario\, N0R 1G0\, Canada
CATEGORIES:Events
ATTACH;FMTTYPE=image/jpeg:https://colchesterridge.com/wp-content/uploads/2024/04/Sunday-May-12-2024.jpg
ORGANIZER;CN="Tanya Hedrick":MAILTO:thedrick@colchesterridge.com
END:VEVENT
BEGIN:VEVENT
DTSTART;TZID=America/Toronto:20240512T140000
DTEND;TZID=America/Toronto:20240512T170000
DTSTAMP:20260425T094437
CREATED:20240502T152918Z
LAST-MODIFIED:20240502T154134Z
UID:2714-1715522400-1715533200@colchesterridge.com
SUMMARY:Live Performance May 12th – Dave Russell
DESCRIPTION:🎤🍷 Dave Russell Live at CREW Winery \nCome and be a part of the excitement this Mother’s Day\, Sunday\, May 12th\, from 2-5 PM at CREW Winery for an exclusive performance by the talented Dave Russell. With his rich experience as a musician\, Dave regularly graces the stages across Windsor\, captivating audiences with his blend of original compositions and beloved covers. From timeless classics to 90s favorites and contemporary pop hits\, his repertoire promises something for everyone. \nIndulge in an afternoon filled with dynamic melodies that promise to surprise and delight\, perfectly complemented by CREW’s renowned selection of wines and delectable menu offerings. Don’t let this opportunity slip away to witness Dave’s artistry and the sense of community he brings to every performance. \nReservations are recommended as seating is limited. Please give us a call at 519-738-9800 or email Tanya at thedrick@colchesterridge.com to reserve your spot. \n#DaveRussellLive #CREWWinery #SundayMusic #WindsorArtists #LiveMusic #WineAndTunes #SupportLocalMusic
URL:https://colchesterridge.com/event/live-performance-may-12th-dave-russell/
LOCATION:Colchester Ridge Estate Winery\, 108 County Road 50 East\, Harrow\, Ontario\, N0R 1G0\, Canada
CATEGORIES:Music
ATTACH;FMTTYPE=image/jpeg:https://colchesterridge.com/wp-content/uploads/2024/05/Dave-Russell-fb-2_jpg.jpg
END:VEVENT
END:VCALENDAR