BEGIN:VCALENDAR
VERSION:2.0
PRODID:-//Colchester Ridge Estate Winery - ECPv6.15.17.1//NONSGML v1.0//EN
CALSCALE:GREGORIAN
METHOD:PUBLISH
X-ORIGINAL-URL:https://colchesterridge.com
X-WR-CALDESC:Events for Colchester Ridge Estate Winery
REFRESH-INTERVAL;VALUE=DURATION:PT1H
X-Robots-Tag:noindex
X-PUBLISHED-TTL:PT1H
BEGIN:VTIMEZONE
TZID:America/Toronto
BEGIN:DAYLIGHT
TZOFFSETFROM:-0500
TZOFFSETTO:-0400
TZNAME:EDT
DTSTART:20230312T070000
END:DAYLIGHT
BEGIN:STANDARD
TZOFFSETFROM:-0400
TZOFFSETTO:-0500
TZNAME:EST
DTSTART:20231105T060000
END:STANDARD
BEGIN:DAYLIGHT
TZOFFSETFROM:-0500
TZOFFSETTO:-0400
TZNAME:EDT
DTSTART:20240310T070000
END:DAYLIGHT
BEGIN:STANDARD
TZOFFSETFROM:-0400
TZOFFSETTO:-0500
TZNAME:EST
DTSTART:20241103T060000
END:STANDARD
BEGIN:DAYLIGHT
TZOFFSETFROM:-0500
TZOFFSETTO:-0400
TZNAME:EDT
DTSTART:20250309T070000
END:DAYLIGHT
BEGIN:STANDARD
TZOFFSETFROM:-0400
TZOFFSETTO:-0500
TZNAME:EST
DTSTART:20251102T060000
END:STANDARD
END:VTIMEZONE
BEGIN:VEVENT
DTSTART;TZID=America/Toronto:20240506T130000
DTEND;TZID=America/Toronto:20240506T160000
DTSTAMP:20260425T080924
CREATED:20240501T011723Z
LAST-MODIFIED:20240501T011723Z
UID:2710-1715000400-1715011200@colchesterridge.com
SUMMARY:Live Performance May 6th – Leighton Bain
DESCRIPTION:🎤🍷 Leighton Bain Live at CREW Winery \nMonday May 6th kicks off our Summer Monday Music Series and we start it off with Leighton Bain! Join us as Leighton covers a wide range of genres including Classic rock\, folk\, songwriter\, 90s hits\, and Americana. Get ready to tap your toes and groove along to every tune! From 1 to 4 PM\, immerse yourself in Leighton Bain’s captivating performance. Pair his eclectic music with our selection of fine wines for the ultimate Monday vibe. It’s the perfect way to start your week off on a high note! \nReservations are recommended as seating is limited. Please give us a call at 519-738-9800 or email Tanya at thedrick@colchesterridge.com to reserve your spot. \n#CREWWinery #LiveMusic #WindsorArtists #WineAndTunes #SupportLocalMusic #LeightonBain
URL:https://colchesterridge.com/event/live-performance-may-6th-leighton-bain/
LOCATION:Colchester Ridge Estate Winery\, 108 County Road 50 East\, Harrow\, Ontario\, N0R 1G0\, Canada
CATEGORIES:Music
ATTACH;FMTTYPE=image/jpeg:https://colchesterridge.com/wp-content/uploads/2024/04/Leighton-Bain-fb-2_jpg.jpg
END:VEVENT
END:VCALENDAR