BEGIN:VCALENDAR
VERSION:2.0
PRODID:-//Colchester Ridge Estate Winery - ECPv6.15.17.1//NONSGML v1.0//EN
CALSCALE:GREGORIAN
METHOD:PUBLISH
X-WR-CALNAME:Colchester Ridge Estate Winery
X-ORIGINAL-URL:https://colchesterridge.com
X-WR-CALDESC:Events for Colchester Ridge Estate Winery
REFRESH-INTERVAL;VALUE=DURATION:PT1H
X-Robots-Tag:noindex
X-PUBLISHED-TTL:PT1H
BEGIN:VTIMEZONE
TZID:America/Toronto
BEGIN:DAYLIGHT
TZOFFSETFROM:-0500
TZOFFSETTO:-0400
TZNAME:EDT
DTSTART:20230312T070000
END:DAYLIGHT
BEGIN:STANDARD
TZOFFSETFROM:-0400
TZOFFSETTO:-0500
TZNAME:EST
DTSTART:20231105T060000
END:STANDARD
BEGIN:DAYLIGHT
TZOFFSETFROM:-0500
TZOFFSETTO:-0400
TZNAME:EDT
DTSTART:20240310T070000
END:DAYLIGHT
BEGIN:STANDARD
TZOFFSETFROM:-0400
TZOFFSETTO:-0500
TZNAME:EST
DTSTART:20241103T060000
END:STANDARD
BEGIN:DAYLIGHT
TZOFFSETFROM:-0500
TZOFFSETTO:-0400
TZNAME:EDT
DTSTART:20250309T070000
END:DAYLIGHT
BEGIN:STANDARD
TZOFFSETFROM:-0400
TZOFFSETTO:-0500
TZNAME:EST
DTSTART:20251102T060000
END:STANDARD
END:VTIMEZONE
BEGIN:VEVENT
DTSTART;TZID=America/Toronto:20240331T140000
DTEND;TZID=America/Toronto:20240331T170000
DTSTAMP:20260423T044748
CREATED:20240309T191441Z
LAST-MODIFIED:20240309T191441Z
UID:2618-1711893600-1711904400@colchesterridge.com
SUMMARY:Live Performance March 31st – Max Marshall
DESCRIPTION:🎤🍷 Max Marshall Live at CREW Winery \nCREW Winery welcomes back Max Marshall performing live this Easter Sunday\, March 31st from 2pm until 5pm. His repertoire\, a fusion of folk\, blues\, and soulful narrative\, sets the stage for an engaging afternoon. Sample our selection of fine wines and with a specially curated Easter Sunday menu\, along side great music. Join us for an event that celebrates the intersection of local music talent and culinary excellence. \n#CREWWinery #LiveMusic #WindsorArtists #WineAndTunes #SupportLocalMusic #MaxMarshall #EasterSunday
URL:https://colchesterridge.com/event/live-performance-march-31st-max-marshall/
LOCATION:Colchester Ridge Estate Winery\, 108 County Road 50 East\, Harrow\, Ontario\, N0R 1G0\, Canada
CATEGORIES:Music
ATTACH;FMTTYPE=image/jpeg:https://colchesterridge.com/wp-content/uploads/2024/03/Max-Marshall-fb-2_jpg.jpg
END:VEVENT
END:VCALENDAR