BEGIN:VCALENDAR
VERSION:2.0
PRODID:-//Colchester Ridge Estate Winery - ECPv6.15.17.1//NONSGML v1.0//EN
CALSCALE:GREGORIAN
METHOD:PUBLISH
X-WR-CALNAME:Colchester Ridge Estate Winery
X-ORIGINAL-URL:https://colchesterridge.com
X-WR-CALDESC:Events for Colchester Ridge Estate Winery
REFRESH-INTERVAL;VALUE=DURATION:PT1H
X-Robots-Tag:noindex
X-PUBLISHED-TTL:PT1H
BEGIN:VTIMEZONE
TZID:America/Toronto
BEGIN:DAYLIGHT
TZOFFSETFROM:-0500
TZOFFSETTO:-0400
TZNAME:EDT
DTSTART:20230312T070000
END:DAYLIGHT
BEGIN:STANDARD
TZOFFSETFROM:-0400
TZOFFSETTO:-0500
TZNAME:EST
DTSTART:20231105T060000
END:STANDARD
BEGIN:DAYLIGHT
TZOFFSETFROM:-0500
TZOFFSETTO:-0400
TZNAME:EDT
DTSTART:20240310T070000
END:DAYLIGHT
BEGIN:STANDARD
TZOFFSETFROM:-0400
TZOFFSETTO:-0500
TZNAME:EST
DTSTART:20241103T060000
END:STANDARD
BEGIN:DAYLIGHT
TZOFFSETFROM:-0500
TZOFFSETTO:-0400
TZNAME:EDT
DTSTART:20250309T070000
END:DAYLIGHT
BEGIN:STANDARD
TZOFFSETFROM:-0400
TZOFFSETTO:-0500
TZNAME:EST
DTSTART:20251102T060000
END:STANDARD
END:VTIMEZONE
BEGIN:VEVENT
DTSTART;TZID=America/Toronto:20240303T140000
DTEND;TZID=America/Toronto:20240303T170000
DTSTAMP:20260425T094442
CREATED:20240204T205606Z
LAST-MODIFIED:20240502T151451Z
UID:2534-1709474400-1709485200@colchesterridge.com
SUMMARY:Live Performance March 3rd - Dave Russell
DESCRIPTION:🎤🍷 Live Music Sunday with Dave Russell at CREW Winery \nJoin us this Sunday\, March 3rd\, from 2-5 PM at CREW Winery for a special performance by Dave Russell. A seasoned musician\, Dave plays gigs throughout Windsor almost every day\, filling venues with a vibrant mix of original songs and crowd-favorite covers. His repertoire spans classic rock\, 90s hits\, and even modern pop tunes. \nEnjoy an afternoon of diverse music that keeps you on your toes\, perfectly paired with CREW’s award-winning wines and delicious menu. Don’t miss this chance to experience Dave’s talent and the community spirit he embodies. \n#DaveRussellLive #CREWWinery #LiveMusicSunday #WindsorMusic #SupportLocalArtists
URL:https://colchesterridge.com/event/live-performance-march-3rd-dave-russell/
LOCATION:Colchester Ridge Estate Winery\, 108 County Road 50 East\, Harrow\, Ontario\, N0R 1G0\, Canada
CATEGORIES:Music
ATTACH;FMTTYPE=image/jpeg:https://colchesterridge.com/wp-content/uploads/2024/02/DAVE_RUSSELL_1280_01.jpg
END:VEVENT
END:VCALENDAR