BEGIN:VCALENDAR
VERSION:2.0
PRODID:-//Colchester Ridge Estate Winery - ECPv6.15.17.1//NONSGML v1.0//EN
CALSCALE:GREGORIAN
METHOD:PUBLISH
X-WR-CALNAME:Colchester Ridge Estate Winery
X-ORIGINAL-URL:https://colchesterridge.com
X-WR-CALDESC:Events for Colchester Ridge Estate Winery
REFRESH-INTERVAL;VALUE=DURATION:PT1H
X-Robots-Tag:noindex
X-PUBLISHED-TTL:PT1H
BEGIN:VTIMEZONE
TZID:America/Toronto
BEGIN:DAYLIGHT
TZOFFSETFROM:-0500
TZOFFSETTO:-0400
TZNAME:EDT
DTSTART:20230312T070000
END:DAYLIGHT
BEGIN:STANDARD
TZOFFSETFROM:-0400
TZOFFSETTO:-0500
TZNAME:EST
DTSTART:20231105T060000
END:STANDARD
BEGIN:DAYLIGHT
TZOFFSETFROM:-0500
TZOFFSETTO:-0400
TZNAME:EDT
DTSTART:20240310T070000
END:DAYLIGHT
BEGIN:STANDARD
TZOFFSETFROM:-0400
TZOFFSETTO:-0500
TZNAME:EST
DTSTART:20241103T060000
END:STANDARD
BEGIN:DAYLIGHT
TZOFFSETFROM:-0500
TZOFFSETTO:-0400
TZNAME:EDT
DTSTART:20250309T070000
END:DAYLIGHT
BEGIN:STANDARD
TZOFFSETFROM:-0400
TZOFFSETTO:-0500
TZNAME:EST
DTSTART:20251102T060000
END:STANDARD
END:VTIMEZONE
BEGIN:VEVENT
DTSTART;TZID=America/Toronto:20240218T140000
DTEND;TZID=America/Toronto:20240218T170000
DTSTAMP:20260421T081916
CREATED:20240216T185535Z
LAST-MODIFIED:20240216T185817Z
UID:2544-1708264800-1708275600@colchesterridge.com
SUMMARY:Live Performance February 18th - Al Fazio
DESCRIPTION:🎸✨ Join us at Crew Winery this Sunday\, February 18th\, from 2-5 PM to enjoy the return of the talented Al Fazio. Al is a local artist performing your favourite Top 40 Hits and Classic Rock. 🎤 \nAl’s range of Pop\, Country\, and Folk music is the perfect backdrop for enjoying CREW’s delicious wines and food. Whether you’re a fan of red\, white\, or rosé\, we’ve got a bottle with your name on it. \n#CREWWinery #AlFazio #WineLovers #GourmetJourney #WineAndDine #MusicAtCREW #LocalTalent #EssexCountyArtists #SupportLocalMusic
URL:https://colchesterridge.com/event/live-performance-february-18th-al-fazio/
LOCATION:Colchester Ridge Estate Winery\, 108 County Road 50 East\, Harrow\, Ontario\, N0R 1G0\, Canada
CATEGORIES:Music
ATTACH;FMTTYPE=image/jpeg:https://colchesterridge.com/wp-content/uploads/2024/02/AL_FAZIO_1280_01.jpg
END:VEVENT
END:VCALENDAR