BEGIN:VCALENDAR
VERSION:2.0
PRODID:-//Colchester Ridge Estate Winery - ECPv6.15.17.1//NONSGML v1.0//EN
CALSCALE:GREGORIAN
METHOD:PUBLISH
X-ORIGINAL-URL:https://colchesterridge.com
X-WR-CALDESC:Events for Colchester Ridge Estate Winery
REFRESH-INTERVAL;VALUE=DURATION:PT1H
X-Robots-Tag:noindex
X-PUBLISHED-TTL:PT1H
BEGIN:VTIMEZONE
TZID:America/Toronto
BEGIN:DAYLIGHT
TZOFFSETFROM:-0500
TZOFFSETTO:-0400
TZNAME:EDT
DTSTART:20230312T070000
END:DAYLIGHT
BEGIN:STANDARD
TZOFFSETFROM:-0400
TZOFFSETTO:-0500
TZNAME:EST
DTSTART:20231105T060000
END:STANDARD
BEGIN:DAYLIGHT
TZOFFSETFROM:-0500
TZOFFSETTO:-0400
TZNAME:EDT
DTSTART:20240310T070000
END:DAYLIGHT
BEGIN:STANDARD
TZOFFSETFROM:-0400
TZOFFSETTO:-0500
TZNAME:EST
DTSTART:20241103T060000
END:STANDARD
BEGIN:DAYLIGHT
TZOFFSETFROM:-0500
TZOFFSETTO:-0400
TZNAME:EDT
DTSTART:20250309T070000
END:DAYLIGHT
BEGIN:STANDARD
TZOFFSETFROM:-0400
TZOFFSETTO:-0500
TZNAME:EST
DTSTART:20251102T060000
END:STANDARD
END:VTIMEZONE
BEGIN:VEVENT
DTSTART;TZID=America/Toronto:20240203T170000
DTEND;TZID=America/Toronto:20240203T190000
DTSTAMP:20260421T070422
CREATED:20231211T174643Z
LAST-MODIFIED:20231214T200059Z
UID:2300-1706979600-1706986800@colchesterridge.com
SUMMARY:SOLD OUT! CREW Cooking Class - Celebration of Chinese New Year
DESCRIPTION:Immerse yourself in the flavors of the East with our Chinese New Year cooking class. Chef Vanessa will guide you through crafting authentic dishes like Bao Buns with BBQ Pork\, Vegetable Udon Noodles\, Sesame Chicken\, Crispy Beef\, and Almond Cookies. Perfect for both beginners and seasoned cooks\, this class offers a delightful exploration of Chinese cuisine. \nNext Date Available
URL:https://colchesterridge.com/event/crew-cooking-class-celebration-of-chinese-new-year/
CATEGORIES:Cooking Classes
ATTACH;FMTTYPE=image/jpeg:https://colchesterridge.com/wp-content/uploads/2023/12/chinese.jpg
ORGANIZER;CN="Tanya Hedrick":MAILTO:thedrick@colchesterridge.com
END:VEVENT
END:VCALENDAR