BEGIN:VCALENDAR
VERSION:2.0
PRODID:-//Colchester Ridge Estate Winery - ECPv6.15.17.1//NONSGML v1.0//EN
CALSCALE:GREGORIAN
METHOD:PUBLISH
X-ORIGINAL-URL:https://colchesterridge.com
X-WR-CALDESC:Events for Colchester Ridge Estate Winery
REFRESH-INTERVAL;VALUE=DURATION:PT1H
X-Robots-Tag:noindex
X-PUBLISHED-TTL:PT1H
BEGIN:VTIMEZONE
TZID:America/Toronto
BEGIN:DAYLIGHT
TZOFFSETFROM:-0500
TZOFFSETTO:-0400
TZNAME:EDT
DTSTART:20230312T070000
END:DAYLIGHT
BEGIN:STANDARD
TZOFFSETFROM:-0400
TZOFFSETTO:-0500
TZNAME:EST
DTSTART:20231105T060000
END:STANDARD
BEGIN:DAYLIGHT
TZOFFSETFROM:-0500
TZOFFSETTO:-0400
TZNAME:EDT
DTSTART:20240310T070000
END:DAYLIGHT
BEGIN:STANDARD
TZOFFSETFROM:-0400
TZOFFSETTO:-0500
TZNAME:EST
DTSTART:20241103T060000
END:STANDARD
BEGIN:DAYLIGHT
TZOFFSETFROM:-0500
TZOFFSETTO:-0400
TZNAME:EDT
DTSTART:20250309T070000
END:DAYLIGHT
BEGIN:STANDARD
TZOFFSETFROM:-0400
TZOFFSETTO:-0500
TZNAME:EST
DTSTART:20251102T060000
END:STANDARD
END:VTIMEZONE
BEGIN:VEVENT
DTSTART;TZID=America/Toronto:20240128T140000
DTEND;TZID=America/Toronto:20240128T170000
DTSTAMP:20260425T063027
CREATED:20240115T165254Z
LAST-MODIFIED:20240124T134606Z
UID:2481-1706450400-1706461200@colchesterridge.com
SUMMARY:Live Performance January 28th - Dave Wilson
DESCRIPTION:🎤🍷This Sunday\, January 28th\, from 2 to 5 PM\, join us at CREW Winery for an afternoon with the talented Dave Wilson! 🎸 \nDave brings his unique mix of soulful sounds and heartfelt lyrics\, a perfect backdrop for your afternoon. Whether you’re a fan of classic hits or original compositions\, Dave’s performance is sure to be a hit! \nPair the musical experience with our selection of wines and indulge in the flavours of our gourmet menu. It’s an experience of fine tunes\, fine wine\, and fine dining that you won’t want to miss. \n👉 #LivePerformance #CREWWinery #CREWLIVE #WineEvents #windsoressex #windsorartists #livemusic #supportlocalmusic #DaveWilson #LiveMusic #CREWWinery #WineAndMusic
URL:https://colchesterridge.com/event/live-performance-january-28th-dave-wilson/
LOCATION:Colchester Ridge Estate Winery\, 108 County Road 50 East\, Harrow\, Ontario\, N0R 1G0\, Canada
CATEGORIES:Music
ATTACH;FMTTYPE=image/jpeg:https://colchesterridge.com/wp-content/uploads/2024/01/DAVE_WILSON_SITE_01.jpg
END:VEVENT
END:VCALENDAR